



BEGIN:VCALENDAR
VERSION:2.0
PRODID:-//Offley Primary School - ECPv6.15.20//NONSGML v1.0//EN
CALSCALE:GREGORIAN
METHOD:PUBLISH
X-ORIGINAL-URL:https://offley.cheshire.sch.uk
X-WR-CALDESC:Events for Offley Primary School
REFRESH-INTERVAL;VALUE=DURATION:PT1H
X-Robots-Tag:noindex
X-PUBLISHED-TTL:PT1H
BEGIN:VTIMEZONE
TZID:Europe/London
BEGIN:DAYLIGHT
TZOFFSETFROM:+0000
TZOFFSETTO:+0100
TZNAME:BST
DTSTART:20250330T010000
END:DAYLIGHT
BEGIN:STANDARD
TZOFFSETFROM:+0100
TZOFFSETTO:+0000
TZNAME:GMT
DTSTART:20251026T010000
END:STANDARD
BEGIN:DAYLIGHT
TZOFFSETFROM:+0000
TZOFFSETTO:+0100
TZNAME:BST
DTSTART:20260329T010000
END:DAYLIGHT
BEGIN:STANDARD
TZOFFSETFROM:+0100
TZOFFSETTO:+0000
TZNAME:GMT
DTSTART:20261025T010000
END:STANDARD
BEGIN:DAYLIGHT
TZOFFSETFROM:+0000
TZOFFSETTO:+0100
TZNAME:BST
DTSTART:20270328T010000
END:DAYLIGHT
BEGIN:STANDARD
TZOFFSETFROM:+0100
TZOFFSETTO:+0000
TZNAME:GMT
DTSTART:20271031T010000
END:STANDARD
END:VTIMEZONE
BEGIN:VEVENT
DTSTART;VALUE=DATE:20260324
DTEND;VALUE=DATE:20260325
DTSTAMP:20260423T094054
CREATED:20260305T111256Z
LAST-MODIFIED:20260305T111558Z
UID:10000048-1774310400-1774396799@offley.cheshire.sch.uk
SUMMARY:Measuring for Leaver's hoodies - Y6
DESCRIPTION:Badged are coming in to measure the year 6 children for their leaver’s hoodies
URL:https://offley.cheshire.sch.uk/event/measuring-for-leavers-hoodies-y6/
END:VEVENT
BEGIN:VEVENT
DTSTART;TZID=Europe/London:20260324T140000
DTEND;TZID=Europe/London:20260324T150000
DTSTAMP:20260423T094054
CREATED:20260312T150054Z
LAST-MODIFIED:20260312T150117Z
UID:10000054-1774360800-1774364400@offley.cheshire.sch.uk
SUMMARY:Easter Bonnet Parade
DESCRIPTION:Preschool-Year 2
URL:https://offley.cheshire.sch.uk/event/easter-bonnet-parade/
END:VEVENT
BEGIN:VEVENT
DTSTART;TZID=Europe/London:20260324T163000
DTEND;TZID=Europe/London:20260324T170000
DTSTAMP:20260423T094054
CREATED:20260312T150205Z
LAST-MODIFIED:20260312T150220Z
UID:10000055-1774369800-1774371600@offley.cheshire.sch.uk
SUMMARY:Residential Meeting - Year 4
DESCRIPTION:
URL:https://offley.cheshire.sch.uk/event/residential-meeting-year-4/
END:VEVENT
BEGIN:VEVENT
DTSTART;TZID=Europe/London:20260324T170000
DTEND;TZID=Europe/London:20260324T180000
DTSTAMP:20260423T094054
CREATED:20260312T150347Z
LAST-MODIFIED:20260312T150401Z
UID:10000056-1774371600-1774375200@offley.cheshire.sch.uk
SUMMARY:Preschool New Parent Welcome Meeting
DESCRIPTION:
URL:https://offley.cheshire.sch.uk/event/preschool-new-parent-welcome-meeting/
END:VEVENT
END:VCALENDAR