



BEGIN:VCALENDAR
VERSION:2.0
PRODID:-//Offley Primary School - ECPv6.15.20//NONSGML v1.0//EN
CALSCALE:GREGORIAN
METHOD:PUBLISH
X-WR-CALNAME:Offley Primary School
X-ORIGINAL-URL:https://offley.cheshire.sch.uk
X-WR-CALDESC:Events for Offley Primary School
REFRESH-INTERVAL;VALUE=DURATION:PT1H
X-Robots-Tag:noindex
X-PUBLISHED-TTL:PT1H
BEGIN:VTIMEZONE
TZID:Europe/London
BEGIN:DAYLIGHT
TZOFFSETFROM:+0000
TZOFFSETTO:+0100
TZNAME:BST
DTSTART:20240331T010000
END:DAYLIGHT
BEGIN:STANDARD
TZOFFSETFROM:+0100
TZOFFSETTO:+0000
TZNAME:GMT
DTSTART:20241027T010000
END:STANDARD
BEGIN:DAYLIGHT
TZOFFSETFROM:+0000
TZOFFSETTO:+0100
TZNAME:BST
DTSTART:20250330T010000
END:DAYLIGHT
BEGIN:STANDARD
TZOFFSETFROM:+0100
TZOFFSETTO:+0000
TZNAME:GMT
DTSTART:20251026T010000
END:STANDARD
BEGIN:DAYLIGHT
TZOFFSETFROM:+0000
TZOFFSETTO:+0100
TZNAME:BST
DTSTART:20260329T010000
END:DAYLIGHT
BEGIN:STANDARD
TZOFFSETFROM:+0100
TZOFFSETTO:+0000
TZNAME:GMT
DTSTART:20261025T010000
END:STANDARD
BEGIN:DAYLIGHT
TZOFFSETFROM:+0000
TZOFFSETTO:+0100
TZNAME:BST
DTSTART:20270328T010000
END:DAYLIGHT
BEGIN:STANDARD
TZOFFSETFROM:+0100
TZOFFSETTO:+0000
TZNAME:GMT
DTSTART:20271031T010000
END:STANDARD
END:VTIMEZONE
BEGIN:VEVENT
DTSTART;VALUE=DATE:20260206
DTEND;VALUE=DATE:20260207
DTSTAMP:20260421T094534
CREATED:20260129T143317Z
LAST-MODIFIED:20260129T143336Z
UID:10000032-1770336000-1770422399@offley.cheshire.sch.uk
SUMMARY:Young Voices - Year 4
DESCRIPTION:
URL:https://offley.cheshire.sch.uk/event/young-voices-year-4/
END:VEVENT
BEGIN:VEVENT
DTSTART;VALUE=DATE:20260206
DTEND;VALUE=DATE:20260207
DTSTAMP:20260421T094534
CREATED:20260129T143141Z
LAST-MODIFIED:20260129T143219Z
UID:10000031-1770336000-1770422399@offley.cheshire.sch.uk
SUMMARY:NSPCC Number Day
DESCRIPTION:Children and staff are encouraged to Dress up for Digits and wear number themed outfits or an item of clothing if possible (football shirts are permitted) and to donate to the NSPCC. You could be imaginative and come as a famous mathematician\, calculator or dice if you’re feeling creative! \nMaths themed activities will be running throughout the day and if your child would like to bring in a number orientated game to play\, such as dominoes\, chess\, snakes and ladders\, Monopoly etc. they are very welcome to.
URL:https://offley.cheshire.sch.uk/event/nspcc-number-day/
END:VEVENT
BEGIN:VEVENT
DTSTART;VALUE=DATE:20260204
DTEND;VALUE=DATE:20260205
DTSTAMP:20260421T094534
CREATED:20260129T142442Z
LAST-MODIFIED:20260129T142500Z
UID:10000030-1770163200-1770249599@offley.cheshire.sch.uk
SUMMARY:Year 5 Tatton Park Trip
DESCRIPTION:Year 5 trip to Tatton Park. \nNormal drop off and collection time. \nSchool uniform with a coat and sturdy shoes (trainers are fine) as some activities are outdoors. \nNeed to bring a packed lunch.
URL:https://offley.cheshire.sch.uk/event/year-5-tatton-park-trip/
END:VEVENT
BEGIN:VEVENT
DTSTART;VALUE=DATE:20260105
DTEND;VALUE=DATE:20260106
DTSTAMP:20260421T094534
CREATED:20251204T123929Z
LAST-MODIFIED:20251204T124032Z
UID:10000025-1767571200-1767657599@offley.cheshire.sch.uk
SUMMARY:First Day of Term
DESCRIPTION:
URL:https://offley.cheshire.sch.uk/event/first-day-of-term/
END:VEVENT
BEGIN:VEVENT
DTSTART;VALUE=DATE:20251219
DTEND;VALUE=DATE:20251220
DTSTAMP:20260421T094534
CREATED:20251202T195133Z
LAST-MODIFIED:20251202T195133Z
UID:10000024-1766102400-1766188799@offley.cheshire.sch.uk
SUMMARY:Last Day of Term
DESCRIPTION:
URL:https://offley.cheshire.sch.uk/event/last-day-of-term/
END:VEVENT
BEGIN:VEVENT
DTSTART;VALUE=DATE:20251218
DTEND;VALUE=DATE:20251219
DTSTAMP:20260421T094534
CREATED:20251202T195051Z
LAST-MODIFIED:20251202T195052Z
UID:10000023-1766016000-1766102399@offley.cheshire.sch.uk
SUMMARY:St Luke's Elf Run
DESCRIPTION:Children from pre-school to year 6 will take part in our Elf Run to support St Luke’s Hospice. Children should come to school dressed in their normal school uniform\, unless it is their PE day\, in which case\, they should come in their PE kit.
URL:https://offley.cheshire.sch.uk/event/st-lukes-elf-run/
END:VEVENT
BEGIN:VEVENT
DTSTART;VALUE=DATE:20251217
DTEND;VALUE=DATE:20251218
DTSTAMP:20260421T094534
CREATED:20251202T194636Z
LAST-MODIFIED:20251202T194637Z
UID:10000022-1765929600-1766015999@offley.cheshire.sch.uk
SUMMARY:EYFS Pantomime Show - In School
DESCRIPTION:Children in pre-school and reception class will have a visit from ‘The Clumsiest Elf’\, this is a Christmas show that we are sure will get them all excited and into the Christmas spirit in our school hall.
URL:https://offley.cheshire.sch.uk/event/eyfs-pantomime-show-in-school/
END:VEVENT
BEGIN:VEVENT
DTSTART;VALUE=DATE:20251216
DTEND;VALUE=DATE:20251217
DTSTAMP:20260421T094534
CREATED:20251202T194445Z
LAST-MODIFIED:20251202T194446Z
UID:10000021-1765843200-1765929599@offley.cheshire.sch.uk
SUMMARY:Aladdin Pantomime Visit -afternoon
DESCRIPTION:Children from years 1 to year 6 will be going on a trip to watch the Northwich Pantomime of Aladdin. They are expected back in school at the slightly later time of 3.30pm. Please collect your child as normal from their classroom door. The payment option is available via your child’s Parentpay account.
URL:https://offley.cheshire.sch.uk/event/aladdin-pantomime-visit-afternoon/
END:VEVENT
BEGIN:VEVENT
DTSTART;TZID=Europe/London:20251215T093000
DTEND;TZID=Europe/London:20251215T103000
DTSTAMP:20260421T094534
CREATED:20251202T194131Z
LAST-MODIFIED:20251202T194132Z
UID:10000020-1765791000-1765794600@offley.cheshire.sch.uk
SUMMARY:Christmas Church Service
DESCRIPTION:Children in years 1 to year 6 will be walking to St Mary’s church in Sandbach for a Christmas service.
URL:https://offley.cheshire.sch.uk/event/christmas-church-service/
END:VEVENT
BEGIN:VEVENT
DTSTART;VALUE=DATE:20251212
DTEND;VALUE=DATE:20251213
DTSTAMP:20260421T094534
CREATED:20251202T194011Z
LAST-MODIFIED:20251202T194012Z
UID:10000019-1765497600-1765583999@offley.cheshire.sch.uk
SUMMARY:Rock Steady Concert 9.30am and 2.30pm
DESCRIPTION:Rock Steady Concert for parents. As this is an external company\, they will liaise directly with parents of children who have Rock Steady music lessons. Please check your email for communication regarding what time your child will be performing.
URL:https://offley.cheshire.sch.uk/event/rock-steady-concert-9-30am-and-2-30pm/
END:VEVENT
BEGIN:VEVENT
DTSTART;VALUE=DATE:20251211
DTEND;VALUE=DATE:20251212
DTSTAMP:20260421T094534
CREATED:20251202T193716Z
LAST-MODIFIED:20251202T193747Z
UID:10000018-1765411200-1765497599@offley.cheshire.sch.uk
SUMMARY:Christmas Dinner Day
DESCRIPTION:Our catering team will be serving our Christmas dinner; the menu will be shared with you separately.
URL:https://offley.cheshire.sch.uk/event/christmas-dinner-day/
END:VEVENT
BEGIN:VEVENT
DTSTART;VALUE=DATE:20251211
DTEND;VALUE=DATE:20251212
DTSTAMP:20260421T094534
CREATED:20251202T193530Z
LAST-MODIFIED:20251202T193531Z
UID:10000017-1765411200-1765497599@offley.cheshire.sch.uk
SUMMARY:Christmas Jumper Day
DESCRIPTION:Children can come to school wearing their favourite Christmas jumper/non-uniform. If you would like to donate towards this worthy cause\, you can do so via the following online link – Save the Children’s Christmas Jumper Day 2025 – JustGiving \n 
URL:https://offley.cheshire.sch.uk/event/christmas-jumper-day/
END:VEVENT
BEGIN:VEVENT
DTSTART;TZID=Europe/London:20251210T133000
DTEND;TZID=Europe/London:20251210T150000
DTSTAMP:20260421T094534
CREATED:20251202T192814Z
LAST-MODIFIED:20251202T192814Z
UID:10000016-1765373400-1765378800@offley.cheshire.sch.uk
SUMMARY:Reception Christmas Performance
DESCRIPTION:Tickets are available via our online booking system via link – offleyschoo.schoolcloud.co.uk.
URL:https://offley.cheshire.sch.uk/event/reception-christmas-performance-2/
END:VEVENT
BEGIN:VEVENT
DTSTART;TZID=Europe/London:20251210T093000
DTEND;TZID=Europe/London:20251210T103000
DTSTAMP:20260421T094534
CREATED:20251202T192719Z
LAST-MODIFIED:20251202T192720Z
UID:10000015-1765359000-1765362600@offley.cheshire.sch.uk
SUMMARY:Reception Christmas Performance
DESCRIPTION:Tickets are available via our online booking system via link – offleyschoo.schoolcloud.co.uk. \n 
URL:https://offley.cheshire.sch.uk/event/reception-christmas-performance/
END:VEVENT
BEGIN:VEVENT
DTSTART;TZID=Europe/London:20251209T133000
DTEND;TZID=Europe/London:20251209T143000
DTSTAMP:20260421T094534
CREATED:20251202T192550Z
LAST-MODIFIED:20251202T192550Z
UID:10000014-1765287000-1765290600@offley.cheshire.sch.uk
SUMMARY:Pre-School Christmas Sing-a-long
DESCRIPTION:
URL:https://offley.cheshire.sch.uk/event/pre-school-christmas-sing-a-long/
END:VEVENT
BEGIN:VEVENT
DTSTART;TZID=Europe/London:20251209T093000
DTEND;TZID=Europe/London:20251209T103000
DTSTAMP:20260421T094534
CREATED:20251202T192357Z
LAST-MODIFIED:20251202T192415Z
UID:10000013-1765272600-1765276200@offley.cheshire.sch.uk
SUMMARY:KS1 Christmas Performance
DESCRIPTION:Tickets are available via our online booking system via link – offleyschoo.schoolcloud.co.uk.
URL:https://offley.cheshire.sch.uk/event/ks1-christmas-performance-2/
END:VEVENT
BEGIN:VEVENT
DTSTART;TZID=Europe/London:20251208T133000
DTEND;TZID=Europe/London:20251208T150000
DTSTAMP:20260421T094534
CREATED:20251202T192220Z
LAST-MODIFIED:20251202T192238Z
UID:10000012-1765200600-1765206000@offley.cheshire.sch.uk
SUMMARY:KS1 Christmas Performance
DESCRIPTION:Tickets are available via our online booking system via link – offleyschoo.schoolcloud.co.uk \n 
URL:https://offley.cheshire.sch.uk/event/ks1-christmas-performance/
END:VEVENT
BEGIN:VEVENT
DTSTART;VALUE=DATE:20251205
DTEND;VALUE=DATE:20251206
DTSTAMP:20260421T094534
CREATED:20251112T151637Z
LAST-MODIFIED:20251112T151721Z
UID:10000011-1764892800-1764979199@offley.cheshire.sch.uk
SUMMARY:Flu Nasal Spray Administration
DESCRIPTION:Please see parent email to consent for your child to have the flu nasal spray administered by the school nursing team.
URL:https://offley.cheshire.sch.uk/event/flu-nasal-spray-administration/
END:VEVENT
BEGIN:VEVENT
DTSTART;TZID=Europe/London:20251204T180000
DTEND;TZID=Europe/London:20251204T190000
DTSTAMP:20260421T094534
CREATED:20251112T122634Z
LAST-MODIFIED:20251112T122635Z
UID:10000010-1764871200-1764874800@offley.cheshire.sch.uk
SUMMARY:Tree of Light - Sandbach
DESCRIPTION:
URL:https://offley.cheshire.sch.uk/event/tree-of-light-sandbach/
END:VEVENT
BEGIN:VEVENT
DTSTART;TZID=Europe/London:20251201T160000
DTEND;TZID=Europe/London:20251201T170000
DTSTAMP:20260421T094534
CREATED:20251112T122346Z
LAST-MODIFIED:20251112T122347Z
UID:10000009-1764604800-1764608400@offley.cheshire.sch.uk
SUMMARY:EYFS New Starter Open Event
DESCRIPTION:
URL:https://offley.cheshire.sch.uk/event/eyfs-new-starter-open-event/
END:VEVENT
BEGIN:VEVENT
DTSTART;VALUE=DATE:20251128
DTEND;VALUE=DATE:20251129
DTSTAMP:20260421T094534
CREATED:20251112T122207Z
LAST-MODIFIED:20251112T122208Z
UID:10000008-1764288000-1764374399@offley.cheshire.sch.uk
SUMMARY:Year 5 and 6 - Mr Bee's Bonkers Bootcamp
DESCRIPTION:
URL:https://offley.cheshire.sch.uk/event/year-5-and-6-mr-bees-bonkers-bootcamp/
END:VEVENT
BEGIN:VEVENT
DTSTART;TZID=Europe/London:20251127T170000
DTEND;TZID=Europe/London:20251127T180000
DTSTAMP:20260421T094534
CREATED:20251112T121842Z
LAST-MODIFIED:20251112T121842Z
UID:10000007-1764262800-1764266400@offley.cheshire.sch.uk
SUMMARY:Parent Online Safety Workshop
DESCRIPTION:Please book your place with the Academy office
URL:https://offley.cheshire.sch.uk/event/parent-online-safety-workshop/
END:VEVENT
BEGIN:VEVENT
DTSTART;VALUE=DATE:20251121
DTEND;VALUE=DATE:20251122
DTSTAMP:20260421T094534
CREATED:20251112T121541Z
LAST-MODIFIED:20251112T121541Z
UID:10000006-1763683200-1763769599@offley.cheshire.sch.uk
SUMMARY:Early Years Superhero Event
DESCRIPTION:Children to wear their favourite superhero costume
URL:https://offley.cheshire.sch.uk/event/early-years-superhero-event/
END:VEVENT
BEGIN:VEVENT
DTSTART;VALUE=DATE:20251119
DTEND;VALUE=DATE:20251120
DTSTAMP:20260421T094534
CREATED:20251112T121303Z
LAST-MODIFIED:20251112T121304Z
UID:10000005-1763510400-1763596799@offley.cheshire.sch.uk
SUMMARY:Year 3 Zoo2U Workshop
DESCRIPTION:
URL:https://offley.cheshire.sch.uk/event/year-3-zoo2u-workshop/
END:VEVENT
BEGIN:VEVENT
DTSTART;VALUE=DATE:20251114
DTEND;VALUE=DATE:20251115
DTSTAMP:20260421T094534
CREATED:20251112T120655Z
LAST-MODIFIED:20251112T120656Z
UID:10000004-1763078400-1763164799@offley.cheshire.sch.uk
SUMMARY:Children in Need - Pyjama Day
DESCRIPTION:
URL:https://offley.cheshire.sch.uk/event/children-in-need-pyjama-day/
END:VEVENT
BEGIN:VEVENT
DTSTART;VALUE=DATE:20251114
DTEND;VALUE=DATE:20251115
DTSTAMP:20260421T094534
CREATED:20251111T095007Z
LAST-MODIFIED:20251111T095007Z
UID:10000002-1763078400-1763164799@offley.cheshire.sch.uk
SUMMARY:Year 5 Trip - Catalyst Museum
DESCRIPTION:
URL:https://offley.cheshire.sch.uk/event/year-5-trip-catalyst-museum/
END:VEVENT
END:VCALENDAR